BEGIN:VCALENDAR
VERSION:2.0
PRODID:-//Collingwood Lawn Bowling Club - ECPv6.15.20//NONSGML v1.0//EN
CALSCALE:GREGORIAN
METHOD:PUBLISH
X-WR-CALNAME:Collingwood Lawn Bowling Club
X-ORIGINAL-URL:https://collingwoodlawnbowlingclub.com
X-WR-CALDESC:Events for Collingwood Lawn Bowling Club
REFRESH-INTERVAL;VALUE=DURATION:PT1H
X-Robots-Tag:noindex
X-PUBLISHED-TTL:PT1H
BEGIN:VTIMEZONE
TZID:Asia/Karachi
BEGIN:STANDARD
TZOFFSETFROM:+0500
TZOFFSETTO:+0500
TZNAME:PKT
DTSTART:20250101T000000
END:STANDARD
END:VTIMEZONE
BEGIN:VTIMEZONE
TZID:UTC
BEGIN:STANDARD
TZOFFSETFROM:+0000
TZOFFSETTO:+0000
TZNAME:UTC
DTSTART:20250101T000000
END:STANDARD
END:VTIMEZONE
BEGIN:VEVENT
DTSTART;TZID=Asia/Karachi:20260510T140000
DTEND;TZID=Asia/Karachi:20260510T160000
DTSTAMP:20260423T130738
CREATED:20230325T205602Z
LAST-MODIFIED:20260226T182209Z
UID:1181-1778421600-1778428800@collingwoodlawnbowlingclub.com
SUMMARY:Opening Day
DESCRIPTION:The 2026 season begins!
URL:https://collingwoodlawnbowlingclub.com/schedule/opening-day/
END:VEVENT
BEGIN:VEVENT
DTSTART;TZID=UTC:20260513T093000
DTEND;TZID=UTC:20260513T113000
DTSTAMP:20260423T130738
CREATED:20260226T183348Z
LAST-MODIFIED:20260226T183348Z
UID:3790-1778664600-1778671800@collingwoodlawnbowlingclub.com
SUMMARY:Croquet Social
DESCRIPTION:Meet & Greet and learn about the Croquet Club at the CLBC.
URL:https://collingwoodlawnbowlingclub.com/schedule/croquet-social/
END:VEVENT
BEGIN:VEVENT
DTSTART;TZID=UTC:20260523T090000
DTEND;TZID=UTC:20260523T150000
DTSTAMP:20260423T130738
CREATED:20250522T193634Z
LAST-MODIFIED:20260317T161004Z
UID:3259-1779526800-1779548400@collingwoodlawnbowlingclub.com
SUMMARY:Matthews Tournament - Mixed Triples
DESCRIPTION:The Barrie Lawn Bowling Club is hosting a tournament – May 23.\nLocation:    Barrie Lawn Bowling Club\nDate:          Sat May 23\nTime:          9:00\nFormat:       Mixed Triples \nThree Ten-end games \n$25ea. \nBYO Lunch \nRegister your team at jmjdawson@gmail.com
URL:https://collingwoodlawnbowlingclub.com/schedule/matthews-tourny-2026/
END:VEVENT
BEGIN:VEVENT
DTSTART;TZID=UTC:20260524T140000
DTEND;TZID=UTC:20260524T160000
DTSTAMP:20260423T130738
CREATED:20260226T182403Z
LAST-MODIFIED:20260226T182403Z
UID:3782-1779631200-1779638400@collingwoodlawnbowlingclub.com
SUMMARY:Open House
DESCRIPTION:Come out to the CLBC Open House and see what we are all about!
URL:https://collingwoodlawnbowlingclub.com/schedule/open-house/
END:VEVENT
BEGIN:VEVENT
DTSTART;TZID=UTC:20260625T093000
DTEND;TZID=UTC:20260625T233000
DTSTAMP:20260423T130738
CREATED:20260226T183101Z
LAST-MODIFIED:20260226T183101Z
UID:3784-1782379800-1782430200@collingwoodlawnbowlingclub.com
SUMMARY:Christmas in June
DESCRIPTION:Come on out and enjoy a fun day of Lawn Bowling…. we may see a special guest!
URL:https://collingwoodlawnbowlingclub.com/schedule/christmas-in-june/
END:VEVENT
BEGIN:VEVENT
DTSTART;TZID=UTC:20260711T093000
DTEND;TZID=UTC:20260711T143000
DTSTAMP:20260423T130738
CREATED:20230402T135439Z
LAST-MODIFIED:20260226T182632Z
UID:1624-1783762200-1783780200@collingwoodlawnbowlingclub.com
SUMMARY:Open Tournament - Open Aussie Pairs
DESCRIPTION:$30 per person (lunch provided)\nLocation: Collingwood Lawn Bowling Club\nSign up with your Collingwood Lawn Bowling Club Tournament Co-Ordinator by sending a note using the Contact Form\, or\non the signup form in the clubhouse
URL:https://collingwoodlawnbowlingclub.com/schedule/tournament-open-aussie-pairs/
END:VEVENT
BEGIN:VEVENT
DTSTART;TZID=UTC:20260813T090000
DTEND;TZID=UTC:20260813T113000
DTSTAMP:20260423T130738
CREATED:20260226T183204Z
LAST-MODIFIED:20260226T183204Z
UID:3788-1786611600-1786620600@collingwoodlawnbowlingclub.com
SUMMARY:PJ Party
DESCRIPTION:
URL:https://collingwoodlawnbowlingclub.com/schedule/pj-party/
END:VEVENT
BEGIN:VEVENT
DTSTART;TZID=UTC:20260815T093000
DTEND;TZID=UTC:20260815T143000
DTSTAMP:20260423T130738
CREATED:20240523T135004Z
LAST-MODIFIED:20260226T182720Z
UID:2703-1786786200-1786804200@collingwoodlawnbowlingclub.com
SUMMARY:Open Tournament - Open Pairs
DESCRIPTION:$30 per person (lunch provided)\nLocation: Collingwood Lawn Bowling Club\nSign up with your Collingwood Lawn Bowling Club Tournament Co-Ordinator by sending a note using the Contact Form\, or on the signup form in the clubhouse
URL:https://collingwoodlawnbowlingclub.com/schedule/open-tournament-open-pairs/
END:VEVENT
BEGIN:VEVENT
DTSTART;TZID=UTC:20260912T083000
DTEND;TZID=UTC:20260912T153000
DTSTAMP:20260423T130738
CREATED:20250522T193819Z
LAST-MODIFIED:20260226T182805Z
UID:3263-1789201800-1789227000@collingwoodlawnbowlingclub.com
SUMMARY:Open Tournament - Open Pairs
DESCRIPTION:$30 per person (lunch provided)\nLocation: Collingwood Lawn Bowling Club\nSign up with your Collingwood Lawn Bowling Club Tournament Co-Ordinator by sending a note using the Contact Form\, or on the signup form in the clubhouse
URL:https://collingwoodlawnbowlingclub.com/schedule/open-tournament-open-pairs-4/
END:VEVENT
END:VCALENDAR