BEGIN:VCALENDAR
VERSION:2.0
PRODID:-//Collingwood Lawn Bowling Club - ECPv6.15.20//NONSGML v1.0//EN
CALSCALE:GREGORIAN
METHOD:PUBLISH
X-ORIGINAL-URL:https://collingwoodlawnbowlingclub.com
X-WR-CALDESC:Events for Collingwood Lawn Bowling Club
REFRESH-INTERVAL;VALUE=DURATION:PT1H
X-Robots-Tag:noindex
X-PUBLISHED-TTL:PT1H
BEGIN:VTIMEZONE
TZID:UTC
BEGIN:STANDARD
TZOFFSETFROM:+0000
TZOFFSETTO:+0000
TZNAME:UTC
DTSTART:20250101T000000
END:STANDARD
END:VTIMEZONE
BEGIN:VEVENT
DTSTART;TZID=UTC:20260912T083000
DTEND;TZID=UTC:20260912T153000
DTSTAMP:20260426T023724
CREATED:20250522T193819Z
LAST-MODIFIED:20260226T182805Z
UID:3263-1789201800-1789227000@collingwoodlawnbowlingclub.com
SUMMARY:Open Tournament - Open Pairs
DESCRIPTION:$30 per person (lunch provided)\nLocation: Collingwood Lawn Bowling Club\nSign up with your Collingwood Lawn Bowling Club Tournament Co-Ordinator by sending a note using the Contact Form\, or on the signup form in the clubhouse
URL:https://collingwoodlawnbowlingclub.com/schedule/open-tournament-open-pairs-4/
END:VEVENT
END:VCALENDAR