BEGIN:VCALENDAR
VERSION:2.0
PRODID:-//Collingwood Lawn Bowling Club - ECPv6.15.20//NONSGML v1.0//EN
CALSCALE:GREGORIAN
METHOD:PUBLISH
X-WR-CALNAME:Collingwood Lawn Bowling Club
X-ORIGINAL-URL:https://collingwoodlawnbowlingclub.com
X-WR-CALDESC:Events for Collingwood Lawn Bowling Club
REFRESH-INTERVAL;VALUE=DURATION:PT1H
X-Robots-Tag:noindex
X-PUBLISHED-TTL:PT1H
BEGIN:VTIMEZONE
TZID:UTC
BEGIN:STANDARD
TZOFFSETFROM:+0000
TZOFFSETTO:+0000
TZNAME:UTC
DTSTART:20230101T000000
END:STANDARD
END:VTIMEZONE
BEGIN:VTIMEZONE
TZID:Asia/Karachi
BEGIN:STANDARD
TZOFFSETFROM:+0500
TZOFFSETTO:+0500
TZNAME:PKT
DTSTART:20240101T000000
END:STANDARD
END:VTIMEZONE
BEGIN:VEVENT
DTSTART;TZID=UTC:20250723T093000
DTEND;TZID=UTC:20250723T120000
DTSTAMP:20260426T011500
CREATED:20240528T134113Z
LAST-MODIFIED:20250522T194521Z
UID:2796-1753263000-1753272000@collingwoodlawnbowlingclub.com
SUMMARY:Group Event - Brain Injury Group
DESCRIPTION:Volunteers required.  \nPlease sign up in the shack.
URL:https://collingwoodlawnbowlingclub.com/schedule/group-event-teachers/
END:VEVENT
BEGIN:VEVENT
DTSTART;TZID=UTC:20250716T093000
DTEND;TZID=UTC:20250716T143000
DTSTAMP:20260426T011500
CREATED:20240523T135302Z
LAST-MODIFIED:20250430T163027Z
UID:2708-1752658200-1752676200@collingwoodlawnbowlingclub.com
SUMMARY:Open Tournament - OLB Seniors
DESCRIPTION:July 16 & 17:\n$35 per person\nLocation: Collingwood Lawn Bowling Club\nSign up with your Tournament Director
URL:https://collingwoodlawnbowlingclub.com/schedule/open-tournament/
END:VEVENT
BEGIN:VEVENT
DTSTART;TZID=UTC:20250608T080000
DTEND;TZID=UTC:20250608T170000
DTSTAMP:20260426T011500
CREATED:20250530T160521Z
LAST-MODIFIED:20250530T161048Z
UID:3305-1749369600-1749402000@collingwoodlawnbowlingclub.com
SUMMARY:National Lawn Bowls Day -  2025
DESCRIPTION:At Collingwood Lawn Bowling Club\,……. \n1:15pm – 4:00pm\, \nBowling at 2:00pm\, \nMembers\, Family\, Guests\, Everyone Welcome!
URL:https://collingwoodlawnbowlingclub.com/schedule/national-lawn-bowls-day-2025/
LOCATION:Collingwood Lawn Bowling Club
ATTACH;FMTTYPE=image/jpeg:https://collingwoodlawnbowlingclub.com/wp-content/uploads/2025/05/bowls-your-way-scaled.jpg
END:VEVENT
BEGIN:VEVENT
DTSTART;TZID=Asia/Karachi:20250518T140000
DTEND;TZID=Asia/Karachi:20250518T160000
DTSTAMP:20260426T011500
CREATED:20230325T205117Z
LAST-MODIFIED:20250413T152059Z
UID:1179-1747576800-1747584000@collingwoodlawnbowlingclub.com
SUMMARY:Kick-Off Social
DESCRIPTION:Come and sign up for a new season\, mingle and catch up on everyone’s winter adventures and plans for the summer.  Snacks and beverages will be provided.
URL:https://collingwoodlawnbowlingclub.com/schedule/kick-off-social/
END:VEVENT
BEGIN:VEVENT
DTSTART;TZID=UTC:20240706T173000
DTEND;TZID=UTC:20240706T200000
DTSTAMP:20260426T011500
CREATED:20240528T135044Z
LAST-MODIFIED:20240528T135328Z
UID:2812-1720287000-1720296000@collingwoodlawnbowlingclub.com
SUMMARY:Group Event - Birthday Party
DESCRIPTION:Volunteers required.  \nPlease sign up in the shack. \nRain date is July 13.
URL:https://collingwoodlawnbowlingclub.com/schedule/group-event-birthday-party/
END:VEVENT
BEGIN:VEVENT
DTSTART;TZID=UTC:20240703T130000
DTEND;TZID=UTC:20240703T153000
DTSTAMP:20260426T011500
CREATED:20240528T134730Z
LAST-MODIFIED:20240528T135308Z
UID:2810-1720011600-1720020600@collingwoodlawnbowlingclub.com
SUMMARY:Group Event - Beaver Valley Probus
DESCRIPTION:Volunteers required.  \nPlease sign up in the shack. \nRain date is July 24.
URL:https://collingwoodlawnbowlingclub.com/schedule/group-event-beaver-valley-probus/
END:VEVENT
BEGIN:VEVENT
DTSTART;TZID=UTC:20240612T093000
DTEND;TZID=UTC:20240612T120000
DTSTAMP:20260426T011500
CREATED:20240527T140640Z
LAST-MODIFIED:20240605T185918Z
UID:2787-1718184600-1718193600@collingwoodlawnbowlingclub.com
SUMMARY:Group Event - Lighthouse Probus Day
DESCRIPTION:Volunteers required.  \nPlease sign up in the shack. \nRain date is June 19.
URL:https://collingwoodlawnbowlingclub.com/schedule/probus-day/
END:VEVENT
END:VCALENDAR