BEGIN:VCALENDAR
VERSION:2.0
PRODID:-//Collingwood Lawn Bowling Club - ECPv6.15.20//NONSGML v1.0//EN
CALSCALE:GREGORIAN
METHOD:PUBLISH
X-WR-CALNAME:Collingwood Lawn Bowling Club
X-ORIGINAL-URL:https://collingwoodlawnbowlingclub.com
X-WR-CALDESC:Events for Collingwood Lawn Bowling Club
REFRESH-INTERVAL;VALUE=DURATION:PT1H
X-Robots-Tag:noindex
X-PUBLISHED-TTL:PT1H
BEGIN:VTIMEZONE
TZID:UTC
BEGIN:STANDARD
TZOFFSETFROM:+0000
TZOFFSETTO:+0000
TZNAME:UTC
DTSTART:20240101T000000
END:STANDARD
END:VTIMEZONE
BEGIN:VEVENT
DTSTART;TZID=UTC:20250913T093000
DTEND;TZID=UTC:20250913T143000
DTSTAMP:20260426T042018
CREATED:20250414T155628Z
LAST-MODIFIED:20250414T155628Z
UID:1282-1757755800-1757773800@collingwoodlawnbowlingclub.com
SUMMARY:Special Olympics Championship
DESCRIPTION:
URL:https://collingwoodlawnbowlingclub.com/schedule/special-olympics-championship/
END:VEVENT
BEGIN:VEVENT
DTSTART;TZID=UTC:20250917T093000
DTEND;TZID=UTC:20250917T120000
DTSTAMP:20260426T042018
CREATED:20240528T135621Z
LAST-MODIFIED:20250806T155637Z
UID:2816-1758101400-1758110400@collingwoodlawnbowlingclub.com
SUMMARY:Group Event - Probus
DESCRIPTION:Volunteers required… \nPlease sign up in the shack… \nRain date is Sept 24.
URL:https://collingwoodlawnbowlingclub.com/schedule/group-event-probus/
END:VEVENT
BEGIN:VEVENT
DTSTART;TZID=UTC:20250921T140000
DTEND;TZID=UTC:20250921T170000
DTSTAMP:20260426T042018
CREATED:20250414T155843Z
LAST-MODIFIED:20250414T155843Z
UID:3200-1758463200-1758474000@collingwoodlawnbowlingclub.com
SUMMARY:Final Day & BBQ
DESCRIPTION:Come out for our final day of Lawn Bowling\, followed by a BBQ
URL:https://collingwoodlawnbowlingclub.com/schedule/final-day-bbq/
END:VEVENT
BEGIN:VEVENT
DTSTART;TZID=UTC:20250928T130000
DTEND;TZID=UTC:20250928T160000
DTSTAMP:20260426T042018
CREATED:20250414T160001Z
LAST-MODIFIED:20250923T135254Z
UID:3202-1759064400-1759075200@collingwoodlawnbowlingclub.com
SUMMARY:CLBC AGM
DESCRIPTION:Come out for the CLBC AGM\, and some lawn bowling afterwards.
URL:https://collingwoodlawnbowlingclub.com/schedule/clbc-agm/
END:VEVENT
END:VCALENDAR